BEGIN:VCALENDAR
VERSION:2.0
PRODID:-// - ECPv6.15.13.1//NONSGML v1.0//EN
CALSCALE:GREGORIAN
METHOD:PUBLISH
X-ORIGINAL-URL:https://contrabanditos.com
X-WR-CALDESC:Events for 
REFRESH-INTERVAL;VALUE=DURATION:PT1H
X-Robots-Tag:noindex
X-PUBLISHED-TTL:PT1H
BEGIN:VTIMEZONE
TZID:UTC
BEGIN:STANDARD
TZOFFSETFROM:+0000
TZOFFSETTO:+0000
TZNAME:UTC
DTSTART:20170101T000000
END:STANDARD
END:VTIMEZONE
BEGIN:VTIMEZONE
TZID:America/New_York
BEGIN:DAYLIGHT
TZOFFSETFROM:-0500
TZOFFSETTO:-0400
TZNAME:EDT
DTSTART:20180311T070000
END:DAYLIGHT
BEGIN:STANDARD
TZOFFSETFROM:-0400
TZOFFSETTO:-0500
TZNAME:EST
DTSTART:20181104T060000
END:STANDARD
BEGIN:DAYLIGHT
TZOFFSETFROM:-0500
TZOFFSETTO:-0400
TZNAME:EDT
DTSTART:20190310T070000
END:DAYLIGHT
BEGIN:STANDARD
TZOFFSETFROM:-0400
TZOFFSETTO:-0500
TZNAME:EST
DTSTART:20191103T060000
END:STANDARD
BEGIN:DAYLIGHT
TZOFFSETFROM:-0500
TZOFFSETTO:-0400
TZNAME:EDT
DTSTART:20200308T070000
END:DAYLIGHT
BEGIN:STANDARD
TZOFFSETFROM:-0400
TZOFFSETTO:-0500
TZNAME:EST
DTSTART:20201101T060000
END:STANDARD
END:VTIMEZONE
BEGIN:VEVENT
DTSTART;TZID=UTC:20190602T080000
DTEND;TZID=UTC:20190602T150000
DTSTAMP:20260425T145739
CREATED:20190528T170424Z
LAST-MODIFIED:20190528T170424Z
UID:513-1559462400-1559487600@contrabanditos.com
SUMMARY:SDA Family Fun Day!
DESCRIPTION:  \nWe’ll be playing tunes for the whole family Sunday\, June 2\, 2019 from 8am to 3p at the Hudson Seventh-day Adventist Church. \nThe event will feature delicious\, healthy\, vegetarian food\, crafts for the whole family\, music by yours truly starting at 11am …and more! \n 
URL:https://contrabanditos.com/show/sda-family-fun-day/
LOCATION:Hudson Seventh-day Adventist Church\, 94 Marlboro Street\, Hudson\, MA\, 01749\, United States
END:VEVENT
BEGIN:VEVENT
DTSTART;TZID=UTC:20190504T190000
DTEND;TZID=UTC:20190504T213000
DTSTAMP:20260425T145739
CREATED:20190104T163957Z
LAST-MODIFIED:20190104T163957Z
UID:501-1556996400-1557005400@contrabanditos.com
SUMMARY:Groton Grange Contra Dance
DESCRIPTION:Join us for an all ages\, family-friendly traditional New England style Contra Dance at the Groton Grange in Groton\, MA.\n \nWe’ll be playing some traditional tunes to get your toes tapping. No experience needed!\n \nOur Dance Caller the honorable Dudley Laufman will teach you the steps you need to know as you go.\n \nCan’t wait to see you there!
URL:https://contrabanditos.com/show/groton-grange-contra-dance-2/
LOCATION:Groton Grange\, 80 Champney St\, Groton\, MA\, 01450\, United States
END:VEVENT
BEGIN:VEVENT
DTSTART;TZID=UTC:20190323T190000
DTEND;TZID=UTC:20190323T213000
DTSTAMP:20260425T145739
CREATED:20190104T163341Z
LAST-MODIFIED:20190313T161825Z
UID:499-1553367600-1553376600@contrabanditos.com
SUMMARY:Groton Grange Contra Dance
DESCRIPTION:Join us for an all ages\, family-friendly traditional New England style Contra Dance at the Groton Grange in Groton\, MA.\n \nWe’ll be playing some traditional tunes to get your toes tapping. No dance experience needed! Our Dance Caller will teach you the steps as you go along with live music!.\n \nCan’t wait to see you there!
URL:https://contrabanditos.com/show/groton-grange-contra-dance/
LOCATION:Groton Grange\, 80 Champney St\, Groton\, MA\, 01450\, United States
END:VEVENT
BEGIN:VEVENT
DTSTART;TZID=America/New_York:20190315T180000
DTEND;TZID=America/New_York:20190315T210000
DTSTAMP:20260425T145739
CREATED:20190105T043034Z
LAST-MODIFIED:20190313T161734Z
UID:504-1552672800-1552683600@contrabanditos.com
SUMMARY:St. Patrick's Day Irish Music
DESCRIPTION:Don your green and come out to enjoy a brew alongside authentic Irish tunes played live! \nSláinte!
URL:https://contrabanditos.com/show/st-patricks-day-irish-music/
LOCATION:Rapscallions Brewery & Tap Room\, 195 Arnold Road\, Sturbridge\, MA\, 01518\, United States
END:VEVENT
BEGIN:VEVENT
DTSTART;TZID=America/New_York:20190126T190000
DTEND;TZID=America/New_York:20190126T213000
DTSTAMP:20260425T145739
CREATED:20190104T162755Z
LAST-MODIFIED:20190104T162833Z
UID:494-1548529200-1548538200@contrabanditos.com
SUMMARY:Groton Grange Contra Dance
DESCRIPTION:Join us for an all ages\, family-friendly traditional New England style Contra Dance at the Groton Grange in Groton\, MA! \nWe’ll be playing some traditional tunes to get your toes tapping and our caller will be Don Veino. \n  \nCan’t wait to see you there!
URL:https://contrabanditos.com/show/contra-dance-at-the-groton-grange/
LOCATION:Groton Grange\, 80 Champney St\, Groton\, MA\, 01450\, United States
END:VEVENT
BEGIN:VEVENT
DTSTART;TZID=UTC:20181117T190000
DTEND;TZID=UTC:20181117T220000
DTSTAMP:20260425T145739
CREATED:20181017T165303Z
LAST-MODIFIED:20181017T165303Z
UID:476-1542481200-1542492000@contrabanditos.com
SUMMARY:Contra Dance @ The Groton Grange
DESCRIPTION:Join us for a family-friendly\, all ages traditional Contra Dance in Groton\, MA!  \nNo dance experience necessary! We teach you the steps AND play something you want to shake a leg to!
URL:https://contrabanditos.com/show/contra-dance-the-groton-grange/
LOCATION:Groton Grange\, 80 Champney St\, Groton\, MA\, 01450\, United States
END:VEVENT
BEGIN:VEVENT
DTSTART;TZID=UTC:20181027T120000
DTEND;TZID=UTC:20181027T140000
DTSTAMP:20260425T145739
CREATED:20181003T182120Z
LAST-MODIFIED:20181003T182120Z
UID:466-1540641600-1540648800@contrabanditos.com
SUMMARY:Trick or Treating Downtown Fitchburg
DESCRIPTION:
URL:https://contrabanditos.com/show/trick-or-treating-downtown-fitchburg/
LOCATION:Strong Style Coffee\, 13 Cushing Street\, Fitchburg\, MA\, 01420\, United States
END:VEVENT
BEGIN:VEVENT
DTSTART;TZID=UTC:20181013T120000
DTEND;TZID=UTC:20181013T130000
DTSTAMP:20260425T145739
CREATED:20180917T200205Z
LAST-MODIFIED:20180917T201507Z
UID:336-1539432000-1539435600@contrabanditos.com
SUMMARY:Apple Festival at Carlson Orchard
DESCRIPTION:
URL:https://contrabanditos.com/show/apple-festival/
LOCATION:Carlson Orchards\, 115 Oak Hill Road\, Harvard\, 01451\, United States
END:VEVENT
END:VCALENDAR