BEGIN:VCALENDAR
VERSION:2.0
PRODID:-// - ECPv6.15.13.1//NONSGML v1.0//EN
CALSCALE:GREGORIAN
METHOD:PUBLISH
X-ORIGINAL-URL:https://contrabanditos.com
X-WR-CALDESC:Events for 
REFRESH-INTERVAL;VALUE=DURATION:PT1H
X-Robots-Tag:noindex
X-PUBLISHED-TTL:PT1H
BEGIN:VTIMEZONE
TZID:America/New_York
BEGIN:DAYLIGHT
TZOFFSETFROM:-0500
TZOFFSETTO:-0400
TZNAME:EDT
DTSTART:20220313T070000
END:DAYLIGHT
BEGIN:STANDARD
TZOFFSETFROM:-0400
TZOFFSETTO:-0500
TZNAME:EST
DTSTART:20221106T060000
END:STANDARD
BEGIN:DAYLIGHT
TZOFFSETFROM:-0500
TZOFFSETTO:-0400
TZNAME:EDT
DTSTART:20230312T070000
END:DAYLIGHT
BEGIN:STANDARD
TZOFFSETFROM:-0400
TZOFFSETTO:-0500
TZNAME:EST
DTSTART:20231105T060000
END:STANDARD
BEGIN:DAYLIGHT
TZOFFSETFROM:-0500
TZOFFSETTO:-0400
TZNAME:EDT
DTSTART:20240310T070000
END:DAYLIGHT
BEGIN:STANDARD
TZOFFSETFROM:-0400
TZOFFSETTO:-0500
TZNAME:EST
DTSTART:20241103T060000
END:STANDARD
END:VTIMEZONE
BEGIN:VTIMEZONE
TZID:UTC
BEGIN:STANDARD
TZOFFSETFROM:+0000
TZOFFSETTO:+0000
TZNAME:UTC
DTSTART:20180101T000000
END:STANDARD
END:VTIMEZONE
BEGIN:VEVENT
DTSTART;TZID=America/New_York:20230608T120000
DTEND;TZID=America/New_York:20230608T150000
DTSTAMP:20260425T145739
CREATED:20230415T142103Z
LAST-MODIFIED:20230415T142103Z
UID:850-1686225600-1686236400@contrabanditos.com
SUMMARY:Annual Groton Conservation Trust Celebration
DESCRIPTION:Come join the Contra Banditos and members of the Groton Conservation Trust at the GCT’s General Field Property on Farmer’s Row in Groton\, MA.  A beautiful location!!
URL:https://contrabanditos.com/show/annual-groton-conservation-trust-celebration/
LOCATION:Groton Conservation Trust\, 421 Farmers Row\, Groton\, MA\, 01450\, United States
END:VEVENT
BEGIN:VEVENT
DTSTART;TZID=America/New_York:20230603T193000
DTEND;TZID=America/New_York:20230603T220000
DTSTAMP:20260425T145739
CREATED:20230325T170928Z
LAST-MODIFIED:20230502T152755Z
UID:844-1685820600-1685829600@contrabanditos.com
SUMMARY:Groton Grange 150th Anniversary Celebration!
DESCRIPTION:The Groton Grange will celebrate its 150th anniversary with a contra dance for all ages. \nMusic provided by the Contra Banditos – Come one\, Come all!! \nCaller: Dudley Laufman\, 2009 National Heritage Fellow \nhttps://grotongrange.org/150th-year/
URL:https://contrabanditos.com/show/groton-grange-150th-anniversary-celebration/
LOCATION:Groton Grange\, 80 Champney St\, Groton\, MA\, 01450\, United States
END:VEVENT
BEGIN:VEVENT
DTSTART;TZID=America/New_York:20230529T080000
DTEND;TZID=America/New_York:20230529T110000
DTSTAMP:20260425T145739
CREATED:20230226T155548Z
LAST-MODIFIED:20230526T185316Z
UID:836-1685347200-1685358000@contrabanditos.com
SUMMARY:Memorial Day Pancake Breakfast
DESCRIPTION:Enjoy breakfast with family and friends and the Contra Banditos.  Then enjoy the parade! \nPARADE STARTS AT 9 AM FROM THE AMERICAN LEGION POST\, 75 HOLLIS STREET
URL:https://contrabanditos.com/show/memorial-day-pancake-breakfast/
LOCATION:Groton Grange\, 80 Champney St\, Groton\, MA\, 01450\, United States
END:VEVENT
BEGIN:VEVENT
DTSTART;TZID=America/New_York:20230520T073000
DTEND;TZID=America/New_York:20230520T213000
DTSTAMP:20260425T145739
CREATED:20230428T194734Z
LAST-MODIFIED:20230428T195617Z
UID:856-1684567800-1684618200@contrabanditos.com
SUMMARY:Contra Dance
DESCRIPTION:Contra Dance at the Groton Grange\,  Come one\, come all!  Great Fun!! \n$5 per person / $10 per couple \nCaller: Jacqueline Laufman
URL:https://contrabanditos.com/show/contra-dance-7/
LOCATION:Groton Grange\, 80 Champney St\, Groton\, MA\, 01450\, United States
END:VEVENT
BEGIN:VEVENT
DTSTART;TZID=America/New_York:20230513T193000
DTEND;TZID=America/New_York:20230513T220000
DTSTAMP:20260425T145739
CREATED:20230115T195838Z
LAST-MODIFIED:20230428T194119Z
UID:802-1684006200-1684015200@contrabanditos.com
SUMMARY:Contra Dance
DESCRIPTION:Contra Dance at Thomas More College\, Merrimack\, NH. \nPrivate event to celebrate senior graduation \nCaller: Dudley Laufman\, 2009 National Heritage Fellow
URL:https://contrabanditos.com/show/contra-dance-5/
LOCATION:Thomas More College\, Merrimack\, NH
END:VEVENT
BEGIN:VEVENT
DTSTART;TZID=America/New_York:20230408T193000
DTEND;TZID=America/New_York:20230408T213000
DTSTAMP:20260425T145739
CREATED:20230115T194318Z
LAST-MODIFIED:20230115T195005Z
UID:800-1680982200-1680989400@contrabanditos.com
SUMMARY:Contra Dance
DESCRIPTION:Contra Dance at the Groton Grange.  Come one…Come all!! Great fun!  $5 per person / $10 per couple or family.
URL:https://contrabanditos.com/show/contra-dance-4/
LOCATION:Groton Grange\, 80 Champney St\, Groton\, MA\, 01450\, United States
END:VEVENT
BEGIN:VEVENT
DTSTART;TZID=America/New_York:20230318T193000
DTEND;TZID=America/New_York:20230318T213000
DTSTAMP:20260425T145739
CREATED:20230115T200659Z
LAST-MODIFIED:20230115T200659Z
UID:806-1679167800-1679175000@contrabanditos.com
SUMMARY:Contra Dance
DESCRIPTION:Private event at St. Francis of Assisi Church\, Litchfield\, NH
URL:https://contrabanditos.com/show/contra-dance-6/
END:VEVENT
BEGIN:VEVENT
DTSTART;TZID=America/New_York:20230317T180000
DTEND;TZID=America/New_York:20230317T210000
DTSTAMP:20260425T145739
CREATED:20230303T191640Z
LAST-MODIFIED:20230303T191640Z
UID:839-1679076000-1679086800@contrabanditos.com
SUMMARY:St. Patrick's Day Party
DESCRIPTION:Come  join the Contra Banditos and the patrons of Rapscallion Sturbridge as we celebrate St. Patrick’s Day!!
URL:https://contrabanditos.com/show/st-patricks-day-party/
LOCATION:Rapscallion\, 3 Arnold Road\, Sturbridge\, MA
END:VEVENT
BEGIN:VEVENT
DTSTART;TZID=America/New_York:20230311T193000
DTEND;TZID=America/New_York:20230311T213000
DTSTAMP:20260425T145739
CREATED:20230115T193619Z
LAST-MODIFIED:20230115T193619Z
UID:798-1678563000-1678570200@contrabanditos.com
SUMMARY:Contra Dance
DESCRIPTION:Contra Dance at the Groton Grange.  Come one…Come All!  Great fun! \n$5 per person / $10 per couple or family.
URL:https://contrabanditos.com/show/contra-dance-3/
LOCATION:Groton Grange\, 80 Champney St\, Groton\, MA\, 01450\, United States
END:VEVENT
BEGIN:VEVENT
DTSTART;TZID=America/New_York:20230211T193000
DTEND;TZID=America/New_York:20230211T213000
DTSTAMP:20260425T145739
CREATED:20230115T192913Z
LAST-MODIFIED:20230115T195245Z
UID:795-1676143800-1676151000@contrabanditos.com
SUMMARY:Contra Dance
DESCRIPTION:Great news!  Restart of regular contra dances at the Groton Grange.  Come and enjoy the fun!  Future dances will take place on the 2nd Saturday of  March\, April and May.  Cost: $5 per person / $10 per couple or family.
URL:https://contrabanditos.com/show/contra-dance-2/
LOCATION:Groton Grange\, 80 Champney St\, Groton\, MA\, 01450\, United States
END:VEVENT
BEGIN:VEVENT
DTSTART;TZID=UTC:20221015T113000
DTEND;TZID=UTC:20221015T143000
DTSTAMP:20260425T145739
CREATED:20220507T155124Z
LAST-MODIFIED:20220507T155146Z
UID:774-1665833400-1665844200@contrabanditos.com
SUMMARY:Apple Festival
DESCRIPTION:Pick apples\, eat delicious food\, enjoy the music!
URL:https://contrabanditos.com/show/apple-festival-2/
LOCATION:Carlson Orchards\, 115 Oak Hill Road\, Harvard\, 01451\, United States
END:VEVENT
BEGIN:VEVENT
DTSTART;TZID=UTC:20220910T193000
DTEND;TZID=UTC:20220910T220000
DTSTAMP:20260425T145739
CREATED:20220830T142131Z
LAST-MODIFIED:20220830T142148Z
UID:786-1662838200-1662847200@contrabanditos.com
SUMMARY:Contra Dance
DESCRIPTION:Private Event
URL:https://contrabanditos.com/show/contra-dance/
LOCATION:Thomas More College\, Merrimack\, NH
END:VEVENT
BEGIN:VEVENT
DTSTART;TZID=UTC:20220814T113000
DTEND;TZID=UTC:20220814T143000
DTSTAMP:20260425T145739
CREATED:20220507T154814Z
LAST-MODIFIED:20220507T154833Z
UID:772-1660476600-1660487400@contrabanditos.com
SUMMARY:Peach Festival
DESCRIPTION:Pick peaches\, eat delicious food\, enjoy the music!
URL:https://contrabanditos.com/show/peach-festival/
LOCATION:Carlson Orchards\, 115 Oak Hill Road\, Harvard\, 01451\, United States
END:VEVENT
BEGIN:VEVENT
DTSTART;TZID=UTC:20220812T160000
DTEND;TZID=UTC:20220812T180000
DTSTAMP:20260425T145739
CREATED:20220507T154401Z
LAST-MODIFIED:20220507T154409Z
UID:770-1660320000-1660327200@contrabanditos.com
SUMMARY:Groton Farmers' Market
DESCRIPTION:Come to shop\, eat\, and listen to fine music!  Located on the historic Williams Barn property
URL:https://contrabanditos.com/show/groton-farmers-market/
LOCATION:Groton Farmers Market\, 160 Chicopee Row\, Groton\, MA\, 01450\, United States
END:VEVENT
BEGIN:VEVENT
DTSTART;TZID=UTC:20220621T130000
DTEND;TZID=UTC:20220621T140000
DTSTAMP:20260425T145739
CREATED:20220507T152439Z
LAST-MODIFIED:20220507T152447Z
UID:767-1655816400-1655820000@contrabanditos.com
SUMMARY:Harvard Council of Aging
DESCRIPTION:Private Event
URL:https://contrabanditos.com/show/harvard-council-of-aging/
END:VEVENT
BEGIN:VEVENT
DTSTART;TZID=UTC:20220611T130000
DTEND;TZID=UTC:20220611T170000
DTSTAMP:20260425T145739
CREATED:20220507T152238Z
LAST-MODIFIED:20220507T152246Z
UID:765-1654952400-1654966800@contrabanditos.com
SUMMARY:Wedding Reception
DESCRIPTION:Private Party
URL:https://contrabanditos.com/show/wedding-reception/
END:VEVENT
BEGIN:VEVENT
DTSTART;TZID=UTC:20220318T120000
DTEND;TZID=UTC:20220318T153000
DTSTAMP:20260425T145739
CREATED:20220507T151509Z
LAST-MODIFIED:20220507T151523Z
UID:762-1647604800-1647617400@contrabanditos.com
SUMMARY:Rapscallion
DESCRIPTION:St. Patrick’s Day Celebration!!
URL:https://contrabanditos.com/show/rapscallion-2/
LOCATION:Rapscallions Acton\,Ma\, 5 Strawberry Hill Rd\, Acton\, MA\, 01450\, United States
END:VEVENT
BEGIN:VEVENT
DTSTART;TZID=UTC:20220317T190000
DTEND;TZID=UTC:20220317T210000
DTSTAMP:20260425T145739
CREATED:20220506T213637Z
LAST-MODIFIED:20220507T151115Z
UID:760-1647543600-1647550800@contrabanditos.com
SUMMARY:Rapscallion
DESCRIPTION:St. Patrick’s Day Celebration!!
URL:https://contrabanditos.com/show/rapscallion/
LOCATION:Rapscallions Acton\,Ma\, 5 Strawberry Hill Rd\, Acton\, MA\, 01450\, United States
END:VEVENT
BEGIN:VEVENT
DTSTART;TZID=UTC:20200630T080000
DTEND;TZID=UTC:20200630T170000
DTSTAMP:20260425T145739
CREATED:20200630T180620Z
LAST-MODIFIED:20200630T180620Z
UID:717-1593504000-1593536400@contrabanditos.com
SUMMARY:Stay safe - The Curse of Covid19 will be behind us\, One Day Soon!!
DESCRIPTION:We love you all and hope to be at Carlson’s Orchard\, Harvard\, Ma. very soon\, come back here for updates!!!
URL:https://contrabanditos.com/show/stay-safe-the-curse-of-covid19-will-be-behind-us-one-day-soon/
END:VEVENT
BEGIN:VEVENT
DTSTART;TZID=UTC:20200524T190000
DTEND;TZID=UTC:20200524T213000
DTSTAMP:20260425T145739
CREATED:20200219T214351Z
LAST-MODIFIED:20200219T214351Z
UID:704-1590346800-1590355800@contrabanditos.com
SUMMARY:Family Barn Dance at the Groton Grange
DESCRIPTION:Family-Friendly Contra Banditos  Barn Dance – Traditional New England style Contra Dance \nWith Dudley Laufman \nNo dancing experience necessary. No partners needed. 
URL:https://contrabanditos.com/show/family-barn-dance-at-the-groton-grange-2/
LOCATION:Groton Grange\, 80 Champney St\, Groton\, MA\, 01450\, United States
END:VEVENT
BEGIN:VEVENT
DTSTART;TZID=UTC:20200328T190000
DTEND;TZID=UTC:20200328T213000
DTSTAMP:20260425T145739
CREATED:20200219T213943Z
LAST-MODIFIED:20200219T213943Z
UID:699-1585422000-1585431000@contrabanditos.com
SUMMARY:Family Barn Dance at the Groton Grange
DESCRIPTION:Family-Friendly Contra Banditos  Barn Dance – Traditional New England style Contra Dance \nWith Tony Parkes \nNo dancing experience necessary. No partners needed.  \n 
URL:https://contrabanditos.com/show/family-barn-dance-at-the-groton-grange/
LOCATION:Groton Grange\, 80 Champney St\, Groton\, MA\, 01450\, United States
END:VEVENT
BEGIN:VEVENT
DTSTART;TZID=UTC:20200317T180000
DTEND;TZID=UTC:20200317T180000
DTSTAMP:20260425T145739
CREATED:20200219T200540Z
LAST-MODIFIED:20200219T221411Z
UID:690-1584468000-1584468000@contrabanditos.com
SUMMARY:St. Patrick's Day Celebration
DESCRIPTION:Shamrock Banditos\, aka Contra Banditos\, music and celebration \n	\n\n		ContraBanditosSt.Paddys\n\n		\n		\n			\n		\n\n		\n		\n\n			\n				\n					\n				\n			\n\n			\n				\n					\n				\n			\n\n			\n				Image				1				of				1
URL:https://contrabanditos.com/show/st-patricks-day-celebration/
LOCATION:Rapscallions Brewery & Tap Room\, 195 Arnold Road\, Sturbridge\, MA\, 01518\, United States
END:VEVENT
BEGIN:VEVENT
DTSTART;TZID=UTC:20200222T190000
DTEND;TZID=UTC:20200222T220000
DTSTAMP:20260425T145739
CREATED:20200219T191603Z
LAST-MODIFIED:20200219T191603Z
UID:685-1582398000-1582408800@contrabanditos.com
SUMMARY:Thomas More College - Private Dance
DESCRIPTION:Contra dancing with the Banditos and Dudley Laufman \nNo Experience necessary. No partners needed.
URL:https://contrabanditos.com/show/thomas-more-college-private-dance/
LOCATION:Thomas More College\, Merrimack\, NH
END:VEVENT
BEGIN:VEVENT
DTSTART;TZID=UTC:20200103T080000
DTEND;TZID=UTC:20200103T170000
DTSTAMP:20260425T145739
CREATED:20200103T175902Z
LAST-MODIFIED:20200103T175902Z
UID:681-1578038400-1578070800@contrabanditos.com
SUMMARY:Test Event
DESCRIPTION:asdf sd fasdf \n 
URL:https://contrabanditos.com/show/test-event/
END:VEVENT
BEGIN:VEVENT
DTSTART;TZID=UTC:20191020T110000
DTEND;TZID=UTC:20191020T150000
DTSTAMP:20260425T145739
CREATED:20190820T203815Z
LAST-MODIFIED:20190820T203915Z
UID:553-1571569200-1571583600@contrabanditos.com
SUMMARY:Carlson Orchards Apple Festival
DESCRIPTION:In August\, we enjoyed entertaining the crowds of peach pickers who visited Carlson Orchards in Harvard on a beautiful sunny day. We’ll be back there in October for another tune-filled day\, this one to celebrate apple season–and\, this time\, most likely with a wonderful bit of fall nip in the air. What could be more New England than picking your own favorite apples\, stopping under the tent to sample the hard cider\, and sitting down to enjoy some good food from local vendors while we get your toes tapping with some traditional tunes and songs. As for us\, we are always charmed and entertained by the children who instinctively get up and dance to the jigs and reels. This is a free event in a beautiful location\, and we hope you’ll join us!  (Thanks to Steve Lieman for capturing the following photos at August’s Peach Festival–we will look more or less like this\, but with sweaters on!)
URL:https://contrabanditos.com/show/carlson-orchards-apple-festival/
LOCATION:Carlson Orchards\, 115 Oak Hill Road\, Harvard\, 01451\, United States
END:VEVENT
BEGIN:VEVENT
DTSTART;TZID=UTC:20190914T190000
DTEND;TZID=UTC:20190914T220000
DTSTAMP:20260425T145739
CREATED:20190820T191457Z
LAST-MODIFIED:20190820T191457Z
UID:542-1568487600-1568498400@contrabanditos.com
SUMMARY:Thomas More College (Private Party)
DESCRIPTION:We are in the habit of helping the Thomas More students\, who come from all parts of the country\,  start the school year off with a traditional New England contra dance. The young men and women at this dance are always enthusiastic and amazing\, making this gig a real band favorite.
URL:https://contrabanditos.com/show/thomas-more-college-private-party/
LOCATION:Thomas More College\, Merrimack\, NH
END:VEVENT
BEGIN:VEVENT
DTSTART;TZID=UTC:20190818T100000
DTEND;TZID=UTC:20190818T160000
DTSTAMP:20260425T145739
CREATED:20190817T205236Z
LAST-MODIFIED:20190817T212208Z
UID:530-1566122400-1566144000@contrabanditos.com
SUMMARY:Carlson Orchards Peach Festival
DESCRIPTION:Join us for one of our favorite annual gigs up in the beautiful Carlson Orchards in Harvard! Get the family out for a day of peach-picking and toe-tapping. Hope to see you there! Thanks to our friend Herm Raymond for these photos from last year’s event. 
URL:https://contrabanditos.com/show/carlson-orchards-peach-festival/
LOCATION:Carlson Orchards\, 115 Oak Hill Road\, Harvard\, 01451\, United States
END:VEVENT
BEGIN:VEVENT
DTSTART;TZID=UTC:20190726T150000
DTEND;TZID=UTC:20190726T190000
DTSTAMP:20260425T145739
CREATED:20190528T172136Z
LAST-MODIFIED:20190528T172219Z
UID:519-1564153200-1564167600@contrabanditos.com
SUMMARY:Groton Farmers Market
DESCRIPTION:Skip the grocery store and join us at the Groton Farmers Market this July! \nWe’ll be providing music for the whole family from 3-6pm. \nBring your own bags and your shopping list! \n 
URL:https://contrabanditos.com/show/grotonfarmersmarket/
LOCATION:Groton Farmers Market\, 160 Chicopee Row\, Groton\, MA\, 01450\, United States
END:VEVENT
BEGIN:VEVENT
DTSTART;TZID=UTC:20190622T120000
DTEND;TZID=UTC:20190623T150000
DTSTAMP:20260425T145739
CREATED:20190621T165351Z
LAST-MODIFIED:20190621T165351Z
UID:524-1561204800-1561302000@contrabanditos.com
SUMMARY:Idylwilde Farm’s 50th Anniversary
DESCRIPTION:Saturday June 22nd & Sunday June 23rd | 12-4PM  \nJoin us for some family friendly tunes at Idylwilde Farm’s 50th anniversary in Acton: \n\nPig Roast\nfree ice cream\nbeer\nsamples!\n\n  \nFeatured guests include: Dom’s Steak & Sausage\, Stretch’s Pickles and Bloody Mary Mix\, Arcade’s Snacks\, Maple Valley\, Sophia’s Greek Yogurt\, beer and wine demos\, and MORE!
URL:https://contrabanditos.com/show/idylwilde-farms-50th-anniversary/
LOCATION:idylwildefarm\, 366 Central Street\, Acton\, 01720\, United States
END:VEVENT
BEGIN:VEVENT
DTSTART;TZID=UTC:20190613T190000
DTEND;TZID=UTC:20190613T210000
DTSTAMP:20260425T145739
CREATED:20190528T171716Z
LAST-MODIFIED:20190528T171716Z
UID:516-1560452400-1560459600@contrabanditos.com
SUMMARY:Annual Groton Conservation Trust - Sunset and Sunflower Party
DESCRIPTION:  \nJoin us in our hometown of Groton\, MA for the Groton Conservation Trust’s Annual Sunset and Sunflower Garden Party! \nThere will be food\, brews\, and tunes provided by yours truly! Bring the whole family…and an empty stomach! \nDon’t forget the bug spray and an umbrella\, just in case!
URL:https://contrabanditos.com/show/annual-groton-conservation-trust-sunset-and-sunflower-party/
LOCATION:Groton Conservation Trust\, 421 Farmers Row\, Groton\, MA\, 01450\, United States
END:VEVENT
END:VCALENDAR