BEGIN:VCALENDAR
VERSION:2.0
PRODID:-// - ECPv6.15.13.1//NONSGML v1.0//EN
CALSCALE:GREGORIAN
METHOD:PUBLISH
X-ORIGINAL-URL:https://contrabanditos.com
X-WR-CALDESC:Events for 
REFRESH-INTERVAL;VALUE=DURATION:PT1H
X-Robots-Tag:noindex
X-PUBLISHED-TTL:PT1H
BEGIN:VTIMEZONE
TZID:America/New_York
BEGIN:DAYLIGHT
TZOFFSETFROM:-0500
TZOFFSETTO:-0400
TZNAME:EDT
DTSTART:20250309T070000
END:DAYLIGHT
BEGIN:STANDARD
TZOFFSETFROM:-0400
TZOFFSETTO:-0500
TZNAME:EST
DTSTART:20251102T060000
END:STANDARD
BEGIN:DAYLIGHT
TZOFFSETFROM:-0500
TZOFFSETTO:-0400
TZNAME:EDT
DTSTART:20260308T070000
END:DAYLIGHT
BEGIN:STANDARD
TZOFFSETFROM:-0400
TZOFFSETTO:-0500
TZNAME:EST
DTSTART:20261101T060000
END:STANDARD
BEGIN:DAYLIGHT
TZOFFSETFROM:-0500
TZOFFSETTO:-0400
TZNAME:EDT
DTSTART:20270314T070000
END:DAYLIGHT
BEGIN:STANDARD
TZOFFSETFROM:-0400
TZOFFSETTO:-0500
TZNAME:EST
DTSTART:20271107T060000
END:STANDARD
END:VTIMEZONE
BEGIN:VEVENT
DTSTART;TZID=America/New_York:20260404T193000
DTEND;TZID=America/New_York:20260404T220000
DTSTAMP:20260423T214915
CREATED:20250807T191615Z
LAST-MODIFIED:20251215T194335Z
UID:993-1775331000-1775340000@contrabanditos.com
SUMMARY:Contra Dance - Groton Grange
DESCRIPTION:Come and enjoy the fun!\nSuggested donation: $5 per person / $10 per couple / $20 per family (children under age 3 free)\nCaller: Don Heinold
URL:https://contrabanditos.com/show/contra-dance-groton-grange-13/
LOCATION:Groton Grange\, 80 Champney St\, Groton\, MA\, 01450\, United States
END:VEVENT
BEGIN:VEVENT
DTSTART;TZID=America/New_York:20260502T193000
DTEND;TZID=America/New_York:20260502T220000
DTSTAMP:20260423T214915
CREATED:20250807T191954Z
LAST-MODIFIED:20251215T194418Z
UID:995-1777750200-1777759200@contrabanditos.com
SUMMARY:Contra Dance - Groton Grange
DESCRIPTION:Come and enjoy the fun!\nSuggested donation: $5 per person / $10 per couple / $20 per family (children under age 3 free)\nCaller: Dudley Laufman\, 2009 National Heritage Fellow
URL:https://contrabanditos.com/show/contra-dance-groton-grange-14/
END:VEVENT
BEGIN:VEVENT
DTSTART;TZID=America/New_York:20260525T073000
DTEND;TZID=America/New_York:20260525T100000
DTSTAMP:20260423T214915
CREATED:20260215T193824Z
LAST-MODIFIED:20260215T193824Z
UID:1037-1779694200-1779703200@contrabanditos.com
SUMMARY:Pancake Breakfast
DESCRIPTION:Come celebrare Memorial Day with The Contra Bandios at the Groton Grange!\nPancakes & Banditos = Perfect Pairing!!
URL:https://contrabanditos.com/show/pancake-breakfast-3/
LOCATION:Groton Grange\, 80 Champney St\, Groton\, MA\, 01450\, United States
END:VEVENT
BEGIN:VEVENT
DTSTART;TZID=America/New_York:20260816T113000
DTEND;TZID=America/New_York:20260816T143000
DTSTAMP:20260423T214915
CREATED:20260118T151750Z
LAST-MODIFIED:20260118T151750Z
UID:1030-1786879800-1786890600@contrabanditos.com
SUMMARY:Peach Festival!
DESCRIPTION:Pick juicy peaches and listen to great music at Carlson Orchards!\nDon’t miss out on the fun!
URL:https://contrabanditos.com/show/peach-festival-4/
LOCATION:Carlson Orchards\, 115 Oak Hill Road\, Harvard\, 01451\, United States
END:VEVENT
BEGIN:VEVENT
DTSTART;TZID=America/New_York:20260821T193000
DTEND;TZID=America/New_York:20260821T210000
DTSTAMP:20260423T214915
CREATED:20260118T152015Z
LAST-MODIFIED:20260118T152015Z
UID:1032-1787340600-1787346000@contrabanditos.com
SUMMARY:Wedding Rehearsal Contra Dance
DESCRIPTION:This is a private event.
URL:https://contrabanditos.com/show/wedding-rehearsal-contra-dance/
LOCATION:Groton Grange\, 80 Champney St\, Groton\, MA\, 01450\, United States
END:VEVENT
BEGIN:VEVENT
DTSTART;TZID=America/New_York:20260912T193000
DTEND;TZID=America/New_York:20260912T220000
DTSTAMP:20260423T214915
CREATED:20260408T132540Z
LAST-MODIFIED:20260408T132540Z
UID:1040-1789241400-1789250400@contrabanditos.com
SUMMARY:Contra Dance - Thomas More College
DESCRIPTION:Dudley Laufman: Caller\nPrivate Event
URL:https://contrabanditos.com/show/contra-dance-thomas-more-college-3/
END:VEVENT
BEGIN:VEVENT
DTSTART;TZID=America/New_York:20261018T110000
DTEND;TZID=America/New_York:20261018T140000
DTSTAMP:20260423T214915
CREATED:20260118T152321Z
LAST-MODIFIED:20260118T152321Z
UID:1034-1792321200-1792332000@contrabanditos.com
SUMMARY:Apple Festival!
DESCRIPTION:Pick crisp apples and listen to great music at Carlson Orchards!\nDon’t miss out on the fun!
URL:https://contrabanditos.com/show/apple-festival-5/
LOCATION:Carlson Orchards\, 115 Oak Hill Road\, Harvard\, 01451\, United States
END:VEVENT
END:VCALENDAR