BEGIN:VCALENDAR
VERSION:2.0
PRODID:-// - ECPv6.15.13.1//NONSGML v1.0//EN
CALSCALE:GREGORIAN
METHOD:PUBLISH
X-ORIGINAL-URL:https://contrabanditos.com
X-WR-CALDESC:Events for 
REFRESH-INTERVAL;VALUE=DURATION:PT1H
X-Robots-Tag:noindex
X-PUBLISHED-TTL:PT1H
BEGIN:VTIMEZONE
TZID:America/New_York
BEGIN:DAYLIGHT
TZOFFSETFROM:-0500
TZOFFSETTO:-0400
TZNAME:EDT
DTSTART:20230312T070000
END:DAYLIGHT
BEGIN:STANDARD
TZOFFSETFROM:-0400
TZOFFSETTO:-0500
TZNAME:EST
DTSTART:20231105T060000
END:STANDARD
BEGIN:DAYLIGHT
TZOFFSETFROM:-0500
TZOFFSETTO:-0400
TZNAME:EDT
DTSTART:20240310T070000
END:DAYLIGHT
BEGIN:STANDARD
TZOFFSETFROM:-0400
TZOFFSETTO:-0500
TZNAME:EST
DTSTART:20241103T060000
END:STANDARD
BEGIN:DAYLIGHT
TZOFFSETFROM:-0500
TZOFFSETTO:-0400
TZNAME:EDT
DTSTART:20250309T070000
END:DAYLIGHT
BEGIN:STANDARD
TZOFFSETFROM:-0400
TZOFFSETTO:-0500
TZNAME:EST
DTSTART:20251102T060000
END:STANDARD
BEGIN:DAYLIGHT
TZOFFSETFROM:-0500
TZOFFSETTO:-0400
TZNAME:EDT
DTSTART:20260308T070000
END:DAYLIGHT
BEGIN:STANDARD
TZOFFSETFROM:-0400
TZOFFSETTO:-0500
TZNAME:EST
DTSTART:20261101T060000
END:STANDARD
BEGIN:DAYLIGHT
TZOFFSETFROM:-0500
TZOFFSETTO:-0400
TZNAME:EDT
DTSTART:20270314T070000
END:DAYLIGHT
BEGIN:STANDARD
TZOFFSETFROM:-0400
TZOFFSETTO:-0500
TZNAME:EST
DTSTART:20271107T060000
END:STANDARD
END:VTIMEZONE
BEGIN:VTIMEZONE
TZID:UTC
BEGIN:STANDARD
TZOFFSETFROM:+0000
TZOFFSETTO:+0000
TZNAME:UTC
DTSTART:20230101T000000
END:STANDARD
END:VTIMEZONE
BEGIN:VEVENT
DTSTART;TZID=America/New_York:20260207T193000
DTEND;TZID=America/New_York:20260207T220000
DTSTAMP:20260423T233518
CREATED:20250807T190736Z
LAST-MODIFIED:20251215T194217Z
UID:989-1770492600-1770501600@contrabanditos.com
SUMMARY:Contra Dance - Groton Grange
DESCRIPTION:Come and enjoy the fun!\nSuggested donation: $5 per person / $10 per couple  / $20 per family (children under age 3 free)\nCaller: Dudley Laufman\, 2009 National Heritage Fellow\n \n 
URL:https://contrabanditos.com/show/contra-dance-groton-grange-11/
END:VEVENT
BEGIN:VEVENT
DTSTART;TZID=America/New_York:20260103T193000
DTEND;TZID=America/New_York:20260103T220000
DTSTAMP:20260423T233518
CREATED:20250807T154633Z
LAST-MODIFIED:20251215T193904Z
UID:987-1767468600-1767477600@contrabanditos.com
SUMMARY:Contra Dance - Groton Grange
DESCRIPTION:Welcome to the 2026 resumption of  contra dances at the Groton Grange\nCome and enjoy the fun!\nSuggested donation: $5 per person / $10 per couple / $20 per family (children under age 3 free)\nCaller: Don Heinold
URL:https://contrabanditos.com/show/contra-dance-groton-grange-10/
LOCATION:Groton Grange\, 80 Champney St\, Groton\, MA\, 01450\, United States
END:VEVENT
BEGIN:VEVENT
DTSTART;TZID=America/New_York:20251206T193000
DTEND;TZID=America/New_York:20251206T223000
DTSTAMP:20260423T233518
CREATED:20251103T192118Z
LAST-MODIFIED:20251105T133504Z
UID:1015-1765049400-1765060200@contrabanditos.com
SUMMARY:Holiday Contra Dance Extravaganza
DESCRIPTION:All ages\, beginner and experienced dancers\, are invited to join the Contra Banditos for the Holiday Contra Dance Extravaganza at the Groton Grange!\nThe caller is Dudley Laufman\, a 2007 National Heritage Fellow.\nAdmission is $5 per person / family maximum of $20.\n \n 
URL:https://contrabanditos.com/show/holiday-contra-dance-extravaganza/
LOCATION:Groton Grange\, 80 Champney St\, Groton\, MA\, 01450\, United States
END:VEVENT
BEGIN:VEVENT
DTSTART;TZID=America/New_York:20251023T180000
DTEND;TZID=America/New_York:20251023T210000
DTSTAMP:20260423T233518
CREATED:20250829T192424Z
LAST-MODIFIED:20250829T192424Z
UID:998-1761242400-1761253200@contrabanditos.com
SUMMARY:Contra Dance Benefit
DESCRIPTION:Come join The Contra Banditos at the HEARTplay benefit Hoedown!\nCelebrate the 30th anniversary of HEARTplay’s children’s grief program.\nCaller: Don Heinold\nCost: $100\n\n\n 
URL:https://contrabanditos.com/show/contra-dance-benefit/
LOCATION:American Legion Post 440\, 295 California Street\, Newton\, MA
END:VEVENT
BEGIN:VEVENT
DTSTART;TZID=America/New_York:20251019T113000
DTEND;TZID=America/New_York:20251019T143000
DTSTAMP:20260423T233518
CREATED:20250319T160611Z
LAST-MODIFIED:20250319T160611Z
UID:976-1760873400-1760884200@contrabanditos.com
SUMMARY:Apple Festival!
DESCRIPTION:Pick tasty apples and listen to great music from the Contra Banditos  Don’t miss out!!
URL:https://contrabanditos.com/show/apple-festival-4/
LOCATION:Carlson Orchards\, 115 Oak Hill Road\, Harvard\, 01451\, United States
END:VEVENT
BEGIN:VEVENT
DTSTART;TZID=America/New_York:20250914T200000
DTEND;TZID=America/New_York:20250914T220000
DTSTAMP:20260423T233518
CREATED:20250702T131031Z
LAST-MODIFIED:20250702T131031Z
UID:984-1757880000-1757887200@contrabanditos.com
SUMMARY:Contra Dance - Thomas More College
DESCRIPTION:Private event\nCaller: Dudley Laufman (2009 National Heritage Fellow)
URL:https://contrabanditos.com/show/contra-dance-thomas-more-college-2/
END:VEVENT
BEGIN:VEVENT
DTSTART;TZID=America/New_York:20250817T113000
DTEND;TZID=America/New_York:20250817T143000
DTSTAMP:20260423T233518
CREATED:20250702T130732Z
LAST-MODIFIED:20250702T130732Z
UID:982-1755430200-1755441000@contrabanditos.com
SUMMARY:Peach Festival!
DESCRIPTION:Pick peaches and listen to great music at Carlson Orchards!\nDon’t miss out on the fun!\n 
URL:https://contrabanditos.com/show/peach-festival-3/
LOCATION:Carlson Orchards\, 115 Oak Hill Road\, Harvard\, 01451\, United States
END:VEVENT
BEGIN:VEVENT
DTSTART;TZID=America/New_York:20250725T160000
DTEND;TZID=America/New_York:20250725T180000
DTSTAMP:20260423T233518
CREATED:20250529T122629Z
LAST-MODIFIED:20250529T122629Z
UID:979-1753459200-1753466400@contrabanditos.com
SUMMARY:Groton Farmers Market - Williams Barn
DESCRIPTION:Mid Summer Harvest and Great Music
URL:https://contrabanditos.com/show/groton-farmers-market-williams-barn/
LOCATION:Groton Farmers Market\, 160 Chicopee Row\, Groton\, MA\, 01450\, United States
END:VEVENT
BEGIN:VEVENT
DTSTART;TZID=America/New_York:20250612T180000
DTEND;TZID=America/New_York:20250612T210000
DTSTAMP:20260423T233518
CREATED:20250319T160300Z
LAST-MODIFIED:20250319T160300Z
UID:974-1749751200-1749762000@contrabanditos.com
SUMMARY:Annual Groton Conservation Trust Celebration
DESCRIPTION:Come and join the Contra Banditos and members of the Groton Conservation Trust on Farmers Row in Groton – A Beautiful location!!!
URL:https://contrabanditos.com/show/annual-groton-conservation-trust-celebration-2/
LOCATION:Groton Conservation Trust\, 421 Farmers Row\, Groton\, MA\, 01450\, United States
END:VEVENT
BEGIN:VEVENT
DTSTART;TZID=America/New_York:20250606T183000
DTEND;TZID=America/New_York:20250606T203000
DTSTAMP:20260423T233518
CREATED:20250319T155857Z
LAST-MODIFIED:20250319T155857Z
UID:972-1749234600-1749241800@contrabanditos.com
SUMMARY:Contra Dance
DESCRIPTION:Wedding Reception – Private – Peterborough\, NH
URL:https://contrabanditos.com/show/contra-dance-11/
END:VEVENT
BEGIN:VEVENT
DTSTART;TZID=America/New_York:20250526T073000
DTEND;TZID=America/New_York:20250526T100000
DTSTAMP:20260423T233518
CREATED:20250219T201356Z
LAST-MODIFIED:20250219T201356Z
UID:966-1748244600-1748253600@contrabanditos.com
SUMMARY:Pancake Breakfast
DESCRIPTION:Celebrate Memorial Day with the Contra Banditos at the Groton Grange
URL:https://contrabanditos.com/show/pancake-breakfast-2/
LOCATION:Groton Grange\, 80 Champney St\, Groton\, MA\, 01450\, United States
END:VEVENT
BEGIN:VEVENT
DTSTART;TZID=America/New_York:20250503T193000
DTEND;TZID=America/New_York:20250503T220000
DTSTAMP:20260423T233518
CREATED:20240504T172342Z
LAST-MODIFIED:20240827T134847Z
UID:935-1746300600-1746309600@contrabanditos.com
SUMMARY:Contra Dance - Groton Grange
DESCRIPTION:Come and enjoy the fun!  No experience required!\nCaller: Dudley Laufman\, 2009 National Heritage Fellow\nSuggested donation: $5 per person / $20 max per couple or family / children under 3 free
URL:https://contrabanditos.com/show/contra-dance-8/
LOCATION:Groton Grange\, 80 Champney St\, Groton\, MA\, 01450\, United States
END:VEVENT
BEGIN:VEVENT
DTSTART;TZID=America/New_York:20250405T193000
DTEND;TZID=America/New_York:20250405T220000
DTSTAMP:20260423T233518
CREATED:20240504T172113Z
LAST-MODIFIED:20250310T150125Z
UID:933-1743881400-1743890400@contrabanditos.com
SUMMARY:Contra Dance - Groton Grange
DESCRIPTION:Come and enjoy the fun!  No experience required!\nCaller: Don Heinold\nSuggested donation: $5 per person / $20 max per couple or family / children under 3 free
URL:https://contrabanditos.com/show/contra-dance-groton-grange-9/
LOCATION:Groton Grange\, 80 Champney St\, Groton\, MA\, 01450\, United States
END:VEVENT
BEGIN:VEVENT
DTSTART;TZID=America/New_York:20250302T193000
DTEND;TZID=America/New_York:20250302T220000
DTSTAMP:20260423T233518
CREATED:20250219T200952Z
LAST-MODIFIED:20250219T200952Z
UID:964-1740943800-1740952800@contrabanditos.com
SUMMARY:Contra Dance
DESCRIPTION:Thomas More College\, Nashua\, NH.  Private event.
URL:https://contrabanditos.com/show/contra-dance-10/
END:VEVENT
BEGIN:VEVENT
DTSTART;TZID=America/New_York:20250301T193000
DTEND;TZID=America/New_York:20250301T220000
DTSTAMP:20260423T233518
CREATED:20240504T171831Z
LAST-MODIFIED:20240826T200954Z
UID:931-1740857400-1740866400@contrabanditos.com
SUMMARY:Contra Dance - Groton Grange
DESCRIPTION:Come and enjoy the fun!  No experience required!\nCaller: Dudley Laufman\, 2009 National Heritage Fellow\nSuggested donation: $5 per person / $20 max per couple or family / children under 3 free
URL:https://contrabanditos.com/show/contra-dance-groton-grange-8/
LOCATION:Groton Grange\, 80 Champney St\, Groton\, MA\, 01450\, United States
END:VEVENT
BEGIN:VEVENT
DTSTART;TZID=America/New_York:20250201T193000
DTEND;TZID=America/New_York:20250201T220000
DTSTAMP:20260423T233518
CREATED:20240504T171525Z
LAST-MODIFIED:20240826T200848Z
UID:929-1738438200-1738447200@contrabanditos.com
SUMMARY:Contra Dance - Groton Grange
DESCRIPTION:Come and enjoy the fun!  No experience required!\nCaller: Dudley Laufman\, 2009 National Heritage Fellow\nSuggested donation: $5 per person / $20 max per couple or family / children under 3 free
URL:https://contrabanditos.com/show/contra-dance-groton-grange-7/
LOCATION:Groton Grange\, 80 Champney St\, Groton\, MA\, 01450\, United States
END:VEVENT
BEGIN:VEVENT
DTSTART;TZID=America/New_York:20250104T193000
DTEND;TZID=America/New_York:20250104T220000
DTSTAMP:20260423T233518
CREATED:20240504T171207Z
LAST-MODIFIED:20241114T190936Z
UID:927-1736019000-1736028000@contrabanditos.com
SUMMARY:Contra Dance - Groton Grange
DESCRIPTION:Come and enjoy the fun!  No experience required!\nCaller: Don Heinold\nSuggested donation: $5 per person / $20 per couple or family / children under 3 free
URL:https://contrabanditos.com/show/contra-dance-groton-grange-6/
LOCATION:Groton Grange\, 80 Champney St\, Groton\, MA\, 01450\, United States
END:VEVENT
BEGIN:VEVENT
DTSTART;TZID=America/New_York:20241020T113000
DTEND;TZID=America/New_York:20241020T143000
DTSTAMP:20260423T233518
CREATED:20240504T170625Z
LAST-MODIFIED:20240715T174632Z
UID:924-1729423800-1729434600@contrabanditos.com
SUMMARY:Apple Festival
DESCRIPTION:Pick Apples and Listen to Great Music at Carlson Orchards!\nDon’t Miss Out On The Fun!
URL:https://contrabanditos.com/show/apple-festival-3/
END:VEVENT
BEGIN:VEVENT
DTSTART;TZID=America/New_York:20240928T190000
DTEND;TZID=America/New_York:20240928T210000
DTSTAMP:20260423T233518
CREATED:20240925T210906Z
LAST-MODIFIED:20240925T210906Z
UID:956-1727550000-1727557200@contrabanditos.com
SUMMARY:Contra Dance - Fitchburg
DESCRIPTION:Private Event
URL:https://contrabanditos.com/show/contra-dance-fitchburg/
END:VEVENT
BEGIN:VEVENT
DTSTART;TZID=America/New_York:20240914T193000
DTEND;TZID=America/New_York:20240914T220000
DTSTAMP:20260423T233518
CREATED:20240826T200619Z
LAST-MODIFIED:20240826T200619Z
UID:948-1726342200-1726351200@contrabanditos.com
SUMMARY:Contra Dance
DESCRIPTION:Private Event\nCaller – Dudley Laufman\, 2009 National Heritage Fellow
URL:https://contrabanditos.com/show/contra-dance-9/
LOCATION:Thomas More College\, Merrimack\, NH
END:VEVENT
BEGIN:VEVENT
DTSTART;TZID=UTC:20240914T123000
DTEND;TZID=UTC:20240914T143000
DTSTAMP:20260423T233518
CREATED:20240715T175350Z
LAST-MODIFIED:20240715T175350Z
UID:940-1726317000-1726324200@contrabanditos.com
SUMMARY:Fall Festival
DESCRIPTION:First Time Playing at Drew Farms for the Banditos\nCome Hear Us Play!!
URL:https://contrabanditos.com/show/fall-festival/
LOCATION:Drew Farm\, 31 Tadmuck Road\, Westford\, MA\, United States
END:VEVENT
BEGIN:VEVENT
DTSTART;TZID=America/New_York:20240906T160000
DTEND;TZID=America/New_York:20240906T180000
DTSTAMP:20260423T233518
CREATED:20240504T170348Z
LAST-MODIFIED:20240504T170348Z
UID:922-1725638400-1725645600@contrabanditos.com
SUMMARY:Groton Farmers Market
DESCRIPTION:Hang Out With Local Farmers and Artisans\nEnjoy Good Old Time Music!
URL:https://contrabanditos.com/show/groton-farmers-market-2/
LOCATION:Groton Farmers Market\, 160 Chicopee Row\, Groton\, MA\, 01450\, United States
END:VEVENT
BEGIN:VEVENT
DTSTART;TZID=America/New_York:20240811T113000
DTEND;TZID=America/New_York:20240811T143000
DTSTAMP:20260423T233518
CREATED:20240504T165953Z
LAST-MODIFIED:20240715T174556Z
UID:919-1723375800-1723386600@contrabanditos.com
SUMMARY:Peach Festival!
DESCRIPTION:Pick Peaches and Listen to Great Music At Carlson Orchards!\nDon’ Miss Out On The Fun!
URL:https://contrabanditos.com/show/peach-festival-2/
LOCATION:Carlson Orchards\, 115 Oak Hill Road\, Harvard\, 01451\, United States
END:VEVENT
BEGIN:VEVENT
DTSTART;TZID=America/New_York:20240714T160000
DTEND;TZID=America/New_York:20240714T170000
DTSTAMP:20260423T233518
CREATED:20240228T192049Z
LAST-MODIFIED:20240228T192049Z
UID:908-1720972800-1720976400@contrabanditos.com
SUMMARY:Concert - Edgewood RC\, North Andover
DESCRIPTION:Music from the “Americana” songbook\nPrivate event.\n 
URL:https://contrabanditos.com/show/concert-edgewood-rc-north-andover/
END:VEVENT
BEGIN:VEVENT
DTSTART;TZID=America/New_York:20240614T193000
DTEND;TZID=America/New_York:20240614T220000
DTSTAMP:20260423T233518
CREATED:20240504T165415Z
LAST-MODIFIED:20240504T165415Z
UID:917-1718393400-1718402400@contrabanditos.com
SUMMARY:Barn Dance
DESCRIPTION:Barn Dance – Fitchburg\, MA – private event\n 
URL:https://contrabanditos.com/show/barn-dance/
END:VEVENT
BEGIN:VEVENT
DTSTART;TZID=America/New_York:20240527T073000
DTEND;TZID=America/New_York:20240527T100000
DTSTAMP:20260423T233518
CREATED:20240504T165047Z
LAST-MODIFIED:20240504T165047Z
UID:915-1716795000-1716804000@contrabanditos.com
SUMMARY:Pancake Breakfast
DESCRIPTION:Celebrate Memorial Day with the Contra Banditos at the Groton Grange!
URL:https://contrabanditos.com/show/pancake-breakfast/
LOCATION:Groton Grange\, 80 Champney St\, Groton\, MA\, 01450\, United States
END:VEVENT
BEGIN:VEVENT
DTSTART;TZID=America/New_York:20240525T193000
DTEND;TZID=America/New_York:20240525T213000
DTSTAMP:20260423T233518
CREATED:20230918T192130Z
LAST-MODIFIED:20240228T191311Z
UID:889-1716665400-1716672600@contrabanditos.com
SUMMARY:Contra Dance - Groton Grange
DESCRIPTION:Come and enjoy the fun!  No experience required!\nDudley Laufman\, National Heritage Fellow\, caller.\nSuggested donation: $5 per person / $20 max per couple or family / children under 3 – free.
URL:https://contrabanditos.com/show/contra-dance-groton-grange-5/
LOCATION:Groton Grange\, 80 Champney St\, Groton\, MA\, 01450\, United States
END:VEVENT
BEGIN:VEVENT
DTSTART;TZID=UTC:20240420T193000
DTEND;TZID=UTC:20240420T213000
DTSTAMP:20260423T233518
CREATED:20230918T191806Z
LAST-MODIFIED:20240228T191034Z
UID:887-1713641400-1713648600@contrabanditos.com
SUMMARY:Contra Dance - Groton Grange
DESCRIPTION:Come and enjoy the fun!  No experience required!\nDon Heinhold\, caller.\nSuggested donation: $5 per person / $20 max per couple or family / children under 3 – free.
URL:https://contrabanditos.com/show/contra-dance-groton-grange-4/
LOCATION:Groton Grange\, 80 Champney St\, Groton\, MA\, 01450\, United States
END:VEVENT
BEGIN:VEVENT
DTSTART;TZID=America/New_York:20240323T193000
DTEND;TZID=America/New_York:20240323T213000
DTSTAMP:20260423T233518
CREATED:20230918T191429Z
LAST-MODIFIED:20240228T204352Z
UID:885-1711222200-1711229400@contrabanditos.com
SUMMARY:Contra Dance - Groton Grange
DESCRIPTION:Come and enjoy the Fun!   No experience required!\nDudley Laufman\, National Heritage Fellow\, caller.\nSuggested donation: $5 per person / $20 max per couple or family / children under 3 – free
URL:https://contrabanditos.com/show/contra-dance-groton-grange-3/
LOCATION:Groton Grange\, 80 Champney St\, Groton\, MA\, 01450\, United States
END:VEVENT
BEGIN:VEVENT
DTSTART;TZID=America/New_York:20240316T170000
DTEND;TZID=America/New_York:20240316T210000
DTSTAMP:20260423T233518
CREATED:20230829T201653Z
LAST-MODIFIED:20230829T201653Z
UID:875-1710608400-1710622800@contrabanditos.com
SUMMARY:St. Patrick's Day Celebration - St. Hedwig's Hall\, Manchester\, NH
DESCRIPTION:Contra Dance and Irish Music for St. Francis of Assisi Church\, Litchfield\, NH\nPrivate Event\nCaller – Dudley Laufman (2009 National Heritage Fellow)
URL:https://contrabanditos.com/show/st-patricks-day-celebration-st-hedwigs-hall-manchester-nh/
END:VEVENT
END:VCALENDAR